BEGIN:VCALENDAR
VERSION:2.0
PRODID:icalendar-ruby
CALSCALE:GREGORIAN
METHOD:PUBLISH
BEGIN:VEVENT
DTSTAMP:20260423T101757Z
UID:744-4994833@clp.church
DTSTART:20260424T000000Z
DTEND:20260424T010000Z
CLASS:PUBLIC
CREATED:20260420T152017
DESCRIPTION:
LAST-MODIFIED:20260420T152017
LOCATION:ZIESKE HALL
SUMMARY:Men's Small Group Bible Study
URL;VALUE=URI:https://www.clp.church/events/mens-small-group-bible-study/20
 26-04-23
ATTACH;FILENAME=Walker Bible Study 2026 (2).png;FMTTYPE=image/png:https://d
 q5pwpg1q8ru0.cloudfront.net/2026/04/20/22/20/16/21a30756-88a1-4e5d-b6ec-df
 6ec5a12069/Walker%20Bible%20Study%202026%20(2).png
END:VEVENT
END:VCALENDAR
