BEGIN:VCALENDAR
VERSION:2.0
PRODID:icalendar-ruby
CALSCALE:GREGORIAN
METHOD:PUBLISH
BEGIN:VEVENT
DTSTAMP:20260422T112616Z
UID:254-5017283@clp.church
DTSTART:20260911T000000Z
DTEND:20260911T030000Z
CLASS:PUBLIC
CREATED:20260421T173129
DESCRIPTION:
LAST-MODIFIED:20260421T173129
LOCATION:Souers Community Hall/Sanctuary
SUMMARY:Handbell Choirs in Worship Services
URL;VALUE=URI:https://www.clp.church/events/handbell-choirs-in-worship-serv
 ices/2026-09-10
ATTACH;FILENAME=_Handbells Sunday (1).png;FMTTYPE=image/png:https://dq5pwpg
 1q8ru0.cloudfront.net/2025/10/14/18/58/56/4160e7ce-484c-4180-b7ea-19a45a22
 d1dc/_Handbells%20Sunday%20(1).png
END:VEVENT
END:VCALENDAR
